BEGIN:VCALENDAR
VERSION:2.0
PRODID:-//eventon.com NONSGML v1.0//EN
CALSCALE:GREGORIAN
METHOD:PUBLISH
BEGIN:VEVENT
UID:69ec3b88a5a0a
DTSTAMP:20260425T035656Z
DTSTART:20230412T073000Z
DTEND:20230412T090000Z
LOCATION:
SUMMARY:Einladung zur Eröffnungsfeier Projekt "Aufessen macht Sinn"
DESCRIPTION:Wann: Mittwoch\,  12.04.2023\,  von 9:30 – 11:00 Wo: Am Stand
 ort des Sammelcontainers beim Bauhof Schlins in der Eichengasse Programm: M
 usikalischer Empfang durch den Volksschulchor Schlins Begrüßung durch den
  Bürgermeister Wolfgang Lässer Vorstellung des Projekts „Aufessen macht
  Sinn!“ Übergabe der Humanaktiv-Körbe an die Volksschul- und Kindergart
 enkinder Wir\,  die Gemeinde Schlins und[..]\nhttps://offener-kuehlschrank.
 at/events/einladung-zur-eroeffnungsfeier-projekt-aufessen-macht-sinn/
URL:https://offener-kuehlschrank.at/events/einladung-zur-eroeffnungsfeier-projekt-aufessen-macht-sinn/
END:VEVENT
END:VCALENDAR